BEGIN:VCALENDAR
VERSION:2.0
PRODID:-//Pictures London//Cinema Listings//EN
CALSCALE:GREGORIAN
METHOD:PUBLISH
X-WR-CALNAME:Pictures London Cinema
BEGIN:VEVENT
UID:cc55210e-876a-48f1-bc01-c88e4bbf3a2a@pictures.london
DTSTART:20260421T200000Z
DTEND:20260421T223700Z
SUMMARY:Project Hail Mary (2026) at Everyman Borough Yards
DESCRIPTION:Project Hail Mary (2026)\nat Everyman Borough Yards\nBook: https://purchase.everymancinema.com/launch/ticketing/26c2fc9e-478c-5c54-a85b-4ace12906065\nvia Pictures (pictures.london)
LOCATION:Everyman Borough Yards\, Borough Yards\, Borough\, SE1 9PH
URL:https://purchase.everymancinema.com/launch/ticketing/26c2fc9e-478c-5c54-a85b-4ace12906065
STATUS:CONFIRMED
END:VEVENT
END:VCALENDAR