BEGIN:VCALENDAR
VERSION:2.0
PRODID:-//Pictures London//Cinema Listings//EN
CALSCALE:GREGORIAN
METHOD:PUBLISH
X-WR-CALNAME:Pictures London Cinema
BEGIN:VEVENT
UID:cbd94e45-e28e-40ce-8fc7-2fe1e2958017@pictures.london
DTSTART:20260427T100000Z
DTEND:20260427T120000Z
SUMMARY:Carers &amp\; Babies: REBUILDING (2025) at Rio Cinema
DESCRIPTION:Carers &amp\; Babies: REBUILDING (2025)\nat Rio Cinema\nBook: https://riocinema.org.uk/Rio.dll/WhatsOn?f=2489218\nvia Pictures (pictures.london)
LOCATION:Rio Cinema\, 107 Kingsland High Street\, Dalston\, E8 2PB
URL:https://riocinema.org.uk/Rio.dll/WhatsOn?f=2489218
STATUS:CONFIRMED
END:VEVENT
END:VCALENDAR