BEGIN:VCALENDAR
VERSION:2.0
PRODID:-//Pictures London//Cinema Listings//EN
CALSCALE:GREGORIAN
METHOD:PUBLISH
X-WR-CALNAME:Pictures London Cinema
BEGIN:VEVENT
UID:cbd4b52a-056c-4df0-8d56-f5d7e2ec0c95@pictures.london
DTSTART:20260421T204000Z
DTEND:20260421T223900Z
SUMMARY:Orwell: 2+2=5 (2025) at BFI Southbank
DESCRIPTION:Orwell: 2+2=5 (2025)\nat BFI Southbank\nFormat: DIGITAL 4K\nBook: https://whatson.bfi.org.uk/Online/default.asp?doWork::WScontent::search=1&BOparam::WScontent::search::article_search_id=25E7EA2E-291F-44F9-8EBC-E560154FDAEB&BOset::WScontent::SearchCriteria::search_criteria=Orwell%202%2B2%3D5\nvia Pictures (pictures.london)
LOCATION:BFI Southbank\, Belvedere Road\, South Bank\, SE1 8XT
URL:https://whatson.bfi.org.uk/Online/default.asp?doWork::WScontent::search=1&BOparam::WScontent::search::article_search_id=25E7EA2E-291F-44F9-8EBC-E560154FDAEB&BOset::WScontent::SearchCriteria::search_criteria=Orwell%202%2B2%3D5
STATUS:CONFIRMED
END:VEVENT
END:VCALENDAR