BEGIN:VCALENDAR
VERSION:2.0
PRODID:-//Pictures London//Cinema Listings//EN
CALSCALE:GREGORIAN
METHOD:PUBLISH
X-WR-CALNAME:Pictures London Cinema
BEGIN:VEVENT
UID:cb359cb1-e5f9-4880-b11c-d61fff4214b0@pictures.london
DTSTART:20260506T173000Z
DTEND:20260506T190000Z
SUMMARY:Honeymoon (2024) at Rio Cinema
DESCRIPTION:Honeymoon (2024)\nat Rio Cinema\nEvent: q and a\nBook: https://riocinema.org.uk/Rio.dll/WhatsOn?f=2432842\nvia Pictures (pictures.london)
LOCATION:Rio Cinema\, 107 Kingsland High Street\, Dalston\, E8 2PB
URL:https://riocinema.org.uk/Rio.dll/WhatsOn?f=2432842
STATUS:CONFIRMED
END:VEVENT
END:VCALENDAR