BEGIN:VCALENDAR
VERSION:2.0
PRODID:-//Pictures London//Cinema Listings//EN
CALSCALE:GREGORIAN
METHOD:PUBLISH
X-WR-CALNAME:Pictures London Cinema
BEGIN:VEVENT
UID:caa32955-1f11-4af0-ab91-7e3893e5df14@pictures.london
DTSTART:20260422T181500Z
DTEND:20260422T183200Z
SUMMARY:The Witness (2026) at BFI Southbank
DESCRIPTION:The Witness (2026)\nat BFI Southbank\nFormat: DIGITAL\nBook: https://whatson.bfi.org.uk/Online/default.asp?doWork::WScontent::search=1&BOparam::WScontent::search::article_search_id=25E7EA2E-291F-44F9-8EBC-E560154FDAEB&BOset::WScontent::SearchCriteria::search_criteria=Witness\nvia Pictures (pictures.london)
LOCATION:BFI Southbank\, Belvedere Road\, South Bank\, SE1 8XT
URL:https://whatson.bfi.org.uk/Online/default.asp?doWork::WScontent::search=1&BOparam::WScontent::search::article_search_id=25E7EA2E-291F-44F9-8EBC-E560154FDAEB&BOset::WScontent::SearchCriteria::search_criteria=Witness
STATUS:CONFIRMED
END:VEVENT
END:VCALENDAR