BEGIN:VCALENDAR
VERSION:2.0
PRODID:-//Pictures London//Cinema Listings//EN
CALSCALE:GREGORIAN
METHOD:PUBLISH
X-WR-CALNAME:Pictures London Cinema
BEGIN:VEVENT
UID:ca9240d4-bf90-4dfc-b3ff-4ebb1fce3bf9@pictures.london
DTSTART:20260421T165000Z
DTEND:20260421T185600Z
SUMMARY:Colours of Time (2025) at Curzon Mayfair
DESCRIPTION:Colours of Time (2025)\nat Curzon Mayfair\nBook: https://www.curzon.com/films/colours-of-time/HO00006319/\nvia Pictures (pictures.london)
LOCATION:Curzon Mayfair\, 38 Curzon Street\, Mayfair\, W1J 7SH
URL:https://www.curzon.com/films/colours-of-time/HO00006319/
STATUS:CONFIRMED
END:VEVENT
END:VCALENDAR