BEGIN:VCALENDAR
VERSION:2.0
PRODID:-//Pictures London//Cinema Listings//EN
CALSCALE:GREGORIAN
METHOD:PUBLISH
X-WR-CALNAME:Pictures London Cinema
BEGIN:VEVENT
UID:ca518536-d6c4-4ca0-ae10-06e6e4803919@pictures.london
DTSTART:20260421T174000Z
DTEND:20260421T195400Z
SUMMARY:Lee Cronin's The Mummy (2026) at Peckhamplex
DESCRIPTION:Lee Cronin's The Mummy (2026)\nat Peckhamplex\nBook: https://ticketing.eu.veezi.com/purchase/79575?siteToken=zkD3Bh7H%2fkuZI9VTgCj%2bgg%3d%3d\nvia Pictures (pictures.london)
LOCATION:Peckhamplex\, 95A Rye Lane\, Peckham\, SE15 4ST
URL:https://ticketing.eu.veezi.com/purchase/79575?siteToken=zkD3Bh7H%2fkuZI9VTgCj%2bgg%3d%3d
STATUS:CONFIRMED
END:VEVENT
END:VCALENDAR