BEGIN:VCALENDAR
VERSION:2.0
PRODID:-//Pictures London//Cinema Listings//EN
CALSCALE:GREGORIAN
METHOD:PUBLISH
X-WR-CALNAME:Pictures London Cinema
BEGIN:VEVENT
UID:c99bc014-2c32-400d-81c1-46d1cf8cba47@pictures.london
DTSTART:20260421T203000Z
DTEND:20260421T220600Z
SUMMARY:Rebuilding (2025) at Everyman Baker Street
DESCRIPTION:Rebuilding (2025)\nat Everyman Baker Street\nBook: https://purchase.everymancinema.com/launch/ticketing/f8a7e661-33a0-5a1d-b535-ef965fbaa9e8\nvia Pictures (pictures.london)
LOCATION:Everyman Baker Street\, 96-98 Baker Street\, Marylebone\, W1U 6AG
URL:https://purchase.everymancinema.com/launch/ticketing/f8a7e661-33a0-5a1d-b535-ef965fbaa9e8
STATUS:CONFIRMED
END:VEVENT
END:VCALENDAR