BEGIN:VCALENDAR
VERSION:2.0
PRODID:-//Pictures London//Cinema Listings//EN
CALSCALE:GREGORIAN
METHOD:PUBLISH
X-WR-CALNAME:Pictures London Cinema
BEGIN:VEVENT
UID:c93978b7-5796-4f30-adeb-72c18850a4d7@pictures.london
DTSTART:20260425T193000Z
DTEND:20260425T213000Z
SUMMARY:Police Story 3: Supercop (4K Restoration) at Riverside Studios
DESCRIPTION:Police Story 3: Supercop (4K Restoration)\nat Riverside Studios\nBook: https://riversidestudios.co.uk/seats/138801/\nvia Pictures (pictures.london)
LOCATION:Riverside Studios\, 101 Queen Caroline Street\, Hammersmith\, W6 9BN
URL:https://riversidestudios.co.uk/seats/138801/
STATUS:CONFIRMED
END:VEVENT
END:VCALENDAR