BEGIN:VCALENDAR
VERSION:2.0
PRODID:-//Pictures London//Cinema Listings//EN
CALSCALE:GREGORIAN
METHOD:PUBLISH
X-WR-CALNAME:Pictures London Cinema
BEGIN:VEVENT
UID:c8cef428-e4cf-4695-a946-73cfde1116f0@pictures.london
DTSTART:20260424T210000Z
DTEND:20260424T225200Z
SUMMARY:Mother Mary (2026) at Castle Cinema
DESCRIPTION:Mother Mary (2026)\nat Castle Cinema\nBook: https://thecastlecinema.com/bookings/16479/\nvia Pictures (pictures.london)
LOCATION:Castle Cinema\, 64-66 Brooksby's Walk\, Hackney\, E9 6DA
URL:https://thecastlecinema.com/bookings/16479/
STATUS:CONFIRMED
END:VEVENT
END:VCALENDAR