BEGIN:VCALENDAR
VERSION:2.0
PRODID:-//Pictures London//Cinema Listings//EN
CALSCALE:GREGORIAN
METHOD:PUBLISH
X-WR-CALNAME:Pictures London Cinema
BEGIN:VEVENT
UID:c8ca3c8a-41af-480c-a4da-ab8e23131c57@pictures.london
DTSTART:20260422T193000Z
DTEND:20260422T213700Z
SUMMARY:Michael (2026) at Everyman Baker Street
DESCRIPTION:Michael (2026)\nat Everyman Baker Street\nBook: https://purchase.everymancinema.com/launch/ticketing/be980df7-a71b-54a1-b44e-c2b5fb7b2865\nvia Pictures (pictures.london)
LOCATION:Everyman Baker Street\, 96-98 Baker Street\, Marylebone\, W1U 6AG
URL:https://purchase.everymancinema.com/launch/ticketing/be980df7-a71b-54a1-b44e-c2b5fb7b2865
STATUS:CONFIRMED
END:VEVENT
END:VCALENDAR