BEGIN:VCALENDAR
VERSION:2.0
PRODID:-//Pictures London//Cinema Listings//EN
CALSCALE:GREGORIAN
METHOD:PUBLISH
X-WR-CALNAME:Pictures London Cinema
BEGIN:VEVENT
UID:c7dba1fd-01e8-418c-9f26-7e2f11e00631@pictures.london
DTSTART:20260423T150000Z
DTEND:20260423T162700Z
SUMMARY:Gun Crazy (1950) at The Nickel
DESCRIPTION:Gun Crazy (1950)\nat The Nickel\nFormat: DIGITAL\nBook: https://book.thenickel.co.uk/screening/280\nvia Pictures (pictures.london)
LOCATION:The Nickel\, 194 Upper Street\, Islington\, N1 1RQ
URL:https://book.thenickel.co.uk/screening/280
STATUS:CONFIRMED
END:VEVENT
END:VCALENDAR