BEGIN:VCALENDAR
VERSION:2.0
PRODID:-//Pictures London//Cinema Listings//EN
CALSCALE:GREGORIAN
METHOD:PUBLISH
X-WR-CALNAME:Pictures London Cinema
BEGIN:VEVENT
UID:c7d9bf0a-f7a3-472d-9d9b-6e291b8af819@pictures.london
DTSTART:20260421T200000Z
DTEND:20260421T214500Z
SUMMARY:The Drama (2026) at Everyman Baker Street
DESCRIPTION:The Drama (2026)\nat Everyman Baker Street\nBook: https://purchase.everymancinema.com/launch/ticketing/0aa0ccca-4eb0-5c32-964f-0f7a950b91a5\nvia Pictures (pictures.london)
LOCATION:Everyman Baker Street\, 96-98 Baker Street\, Marylebone\, W1U 6AG
URL:https://purchase.everymancinema.com/launch/ticketing/0aa0ccca-4eb0-5c32-964f-0f7a950b91a5
STATUS:CONFIRMED
END:VEVENT
END:VCALENDAR