BEGIN:VCALENDAR
VERSION:2.0
PRODID:-//Pictures London//Cinema Listings//EN
CALSCALE:GREGORIAN
METHOD:PUBLISH
X-WR-CALNAME:Pictures London Cinema
BEGIN:VEVENT
UID:c7b464ef-7841-4f28-b51a-830a2d95cb0a@pictures.london
DTSTART:20260423T193000Z
DTEND:20260423T213000Z
SUMMARY:Ultras + Q&A with director Ragnhild Ekner at Hackney Picturehouse
DESCRIPTION:Ultras + Q&A with director Ragnhild Ekner\nat Hackney Picturehouse\nEvent: q and a\nBook: https://www.picturehouses.com/movie-details/010/HO00017876/ultras-q-a-with-director-ragnhild-ekner\nvia Pictures (pictures.london)
LOCATION:Hackney Picturehouse\, 270 Mare Street\, Hackney\, E8 1EJ
URL:https://www.picturehouses.com/movie-details/010/HO00017876/ultras-q-a-with-director-ragnhild-ekner
STATUS:CONFIRMED
END:VEVENT
END:VCALENDAR