BEGIN:VCALENDAR
VERSION:2.0
PRODID:-//Pictures London//Cinema Listings//EN
CALSCALE:GREGORIAN
METHOD:PUBLISH
X-WR-CALNAME:Pictures London Cinema
BEGIN:VEVENT
UID:c78c37d6-b992-472e-8ec3-a24ded0c5586@pictures.london
DTSTART:20260421T170000Z
DTEND:20260421T190000Z
SUMMARY:AKIRA (2026 Re-release) (Subbed) (2026) at Finsbury Park Picturehouse
DESCRIPTION:AKIRA (2026 Re-release) (Subbed) (2026)\nat Finsbury Park Picturehouse\nBook: https://www.picturehouses.com/movie-details/029/HO00017693/akira-2026-re-release\nvia Pictures (pictures.london)
LOCATION:Finsbury Park Picturehouse\, Unit B\, Finsbury Park Station\, Finsbury Park\, N4 3FP
URL:https://www.picturehouses.com/movie-details/029/HO00017693/akira-2026-re-release
STATUS:CONFIRMED
END:VEVENT
END:VCALENDAR