BEGIN:VCALENDAR
VERSION:2.0
PRODID:-//Pictures London//Cinema Listings//EN
CALSCALE:GREGORIAN
METHOD:PUBLISH
X-WR-CALNAME:Pictures London Cinema
BEGIN:VEVENT
UID:c74adacf-cb03-4fd1-accf-785def9a13eb@pictures.london
DTSTART:20260425T151500Z
DTEND:20260425T165000Z
SUMMARY:The Happiest Day in the Life of Olli Mäki (2016) at BFI Southbank
DESCRIPTION:The Happiest Day in the Life of Olli Mäki (2016)\nat BFI Southbank\nBook: https://whatson.bfi.org.uk/Online/default.asp?doWork::WScontent::loadArticle=Load&BOparam::WScontent::loadArticle::article_id=10AD2F08-98D8-4DF6-A445-8C570CD5695B&BOparam::WScontent::loadArticle::context_id=C0BF3D94-6637-415A-AF4A-BB19E5C38219\nvia Pictures (pictures.london)
LOCATION:BFI Southbank\, Belvedere Road\, South Bank\, SE1 8XT
URL:https://whatson.bfi.org.uk/Online/default.asp?doWork::WScontent::loadArticle=Load&BOparam::WScontent::loadArticle::article_id=10AD2F08-98D8-4DF6-A445-8C570CD5695B&BOparam::WScontent::loadArticle::context_id=C0BF3D94-6637-415A-AF4A-BB19E5C38219
STATUS:CONFIRMED
END:VEVENT
END:VCALENDAR