BEGIN:VCALENDAR
VERSION:2.0
PRODID:-//Pictures London//Cinema Listings//EN
CALSCALE:GREGORIAN
METHOD:PUBLISH
X-WR-CALNAME:Pictures London Cinema
BEGIN:VEVENT
UID:c716aec3-f3cc-4a30-b2c9-0cff49640190@pictures.london
DTSTART:20260428T164500Z
DTEND:20260428T181300Z
SUMMARY:A Hard Day's Night (1964) at Prince Charles Cinema
DESCRIPTION:A Hard Day's Night (1964)\nat Prince Charles Cinema\nBook: https://princecharlescinema.com/prince-charles-cinema/booknow/31625871\nvia Pictures (pictures.london)
LOCATION:Prince Charles Cinema\, 7 Leicester Place\, Leicester Square\, WC2H 7BY
URL:https://princecharlescinema.com/prince-charles-cinema/booknow/31625871
STATUS:CONFIRMED
END:VEVENT
END:VCALENDAR