BEGIN:VCALENDAR
VERSION:2.0
PRODID:-//Pictures London//Cinema Listings//EN
CALSCALE:GREGORIAN
METHOD:PUBLISH
X-WR-CALNAME:Pictures London Cinema
BEGIN:VEVENT
UID:c6bdf3bc-b4d2-411e-b2e7-2be7569f8126@pictures.london
DTSTART:20260422T124500Z
DTEND:20260422T145200Z
SUMMARY:Michael (2026) at Everyman Borough Yards
DESCRIPTION:Michael (2026)\nat Everyman Borough Yards\nBook: https://purchase.everymancinema.com/launch/ticketing/d37916d9-3d87-50c8-a4e3-8329d5870563\nvia Pictures (pictures.london)
LOCATION:Everyman Borough Yards\, Borough Yards\, Borough\, SE1 9PH
URL:https://purchase.everymancinema.com/launch/ticketing/d37916d9-3d87-50c8-a4e3-8329d5870563
STATUS:CONFIRMED
END:VEVENT
END:VCALENDAR