BEGIN:VCALENDAR
VERSION:2.0
PRODID:-//Pictures London//Cinema Listings//EN
CALSCALE:GREGORIAN
METHOD:PUBLISH
X-WR-CALNAME:Pictures London Cinema
BEGIN:VEVENT
UID:c6a7da51-fdb0-4191-94d7-50826fa8ff39@pictures.london
DTSTART:20260425T100000Z
DTEND:20260425T115000Z
SUMMARY:Space Cadet (2024) at Barbican Cinema
DESCRIPTION:Space Cadet (2024)\nat Barbican Cinema\nBook: https://www.barbican.org.uk/whats-on/2026/event/family-film-club-space-cadet-origami-workshop\nvia Pictures (pictures.london)
LOCATION:Barbican Cinema\, Silk Street\, Barbican\, EC2Y 8DS
URL:https://www.barbican.org.uk/whats-on/2026/event/family-film-club-space-cadet-origami-workshop
STATUS:CONFIRMED
END:VEVENT
END:VCALENDAR