BEGIN:VCALENDAR
VERSION:2.0
PRODID:-//Pictures London//Cinema Listings//EN
CALSCALE:GREGORIAN
METHOD:PUBLISH
X-WR-CALNAME:Pictures London Cinema
BEGIN:VEVENT
UID:c69062df-2f40-4aa5-b057-68a04107ca9a@pictures.london
DTSTART:20260421T201500Z
DTEND:20260421T220200Z
SUMMARY:California Schemin' (2026) at The Lexi Cinema
DESCRIPTION:California Schemin' (2026)\nat The Lexi Cinema\nBook: https://thelexicinema.co.uk/TheLexiCinema.dll/Booking?Booking=TSelectItems.waSelectItemsPrompt.TcsWebMenuItem_0.TcsWebTab_0.TcsPerformance_9705596.TcsSection_5209705\nvia Pictures (pictures.london)
LOCATION:The Lexi Cinema\, 194B Chamberlayne Road\, Kensal Rise\, NW10 3JU
URL:https://thelexicinema.co.uk/TheLexiCinema.dll/Booking?Booking=TSelectItems.waSelectItemsPrompt.TcsWebMenuItem_0.TcsWebTab_0.TcsPerformance_9705596.TcsSection_5209705
STATUS:CONFIRMED
END:VEVENT
END:VCALENDAR