BEGIN:VCALENDAR
VERSION:2.0
PRODID:-//Pictures London//Cinema Listings//EN
CALSCALE:GREGORIAN
METHOD:PUBLISH
X-WR-CALNAME:Pictures London Cinema
BEGIN:VEVENT
UID:c66d3649-d8ba-4f3a-9d30-69ad051abc7a@pictures.london
DTSTART:20260421T160000Z
DTEND:20260421T175500Z
SUMMARY:Sirāt (2025) at Castle Cinema
DESCRIPTION:Sirāt (2025)\nat Castle Cinema\nBook: https://thecastlecinema.com/bookings/16417/\nvia Pictures (pictures.london)
LOCATION:Castle Cinema\, 64-66 Brooksby's Walk\, Hackney\, E9 6DA
URL:https://thecastlecinema.com/bookings/16417/
STATUS:CONFIRMED
END:VEVENT
END:VCALENDAR