BEGIN:VCALENDAR
VERSION:2.0
PRODID:-//Pictures London//Cinema Listings//EN
CALSCALE:GREGORIAN
METHOD:PUBLISH
X-WR-CALNAME:Pictures London Cinema
BEGIN:VEVENT
UID:c636a359-8c4a-435f-804a-3a5df722e4ab@pictures.london
DTSTART:20260426T140000Z
DTEND:20260426T152300Z
SUMMARY:I Drink Your Blood (1971) at The Nickel
DESCRIPTION:I Drink Your Blood (1971)\nat The Nickel\nFormat: DIGITAL\nBook: https://book.thenickel.co.uk/screening/287\nvia Pictures (pictures.london)
LOCATION:The Nickel\, 194 Upper Street\, Islington\, N1 1RQ
URL:https://book.thenickel.co.uk/screening/287
STATUS:CONFIRMED
END:VEVENT
END:VCALENDAR