BEGIN:VCALENDAR
VERSION:2.0
PRODID:-//Pictures London//Cinema Listings//EN
CALSCALE:GREGORIAN
METHOD:PUBLISH
X-WR-CALNAME:Pictures London Cinema
BEGIN:VEVENT
UID:c615d0f6-dbfa-4cb1-91b0-be1301312880@pictures.london
DTSTART:20260422T124500Z
DTEND:20260422T143500Z
SUMMARY:The Magic Faraway Tree (2026) at Everyman Chelsea
DESCRIPTION:The Magic Faraway Tree (2026)\nat Everyman Chelsea\nBook: https://purchase.everymancinema.com/launch/ticketing/508af8de-b81b-5663-91c9-91d3f84be1e6\nvia Pictures (pictures.london)
LOCATION:Everyman Chelsea\, 279 King's Road\, Chelsea\, SW3 3TD
URL:https://purchase.everymancinema.com/launch/ticketing/508af8de-b81b-5663-91c9-91d3f84be1e6
STATUS:CONFIRMED
END:VEVENT
END:VCALENDAR