BEGIN:VCALENDAR
VERSION:2.0
PRODID:-//Pictures London//Cinema Listings//EN
CALSCALE:GREGORIAN
METHOD:PUBLISH
X-WR-CALNAME:Pictures London Cinema
BEGIN:VEVENT
UID:c60f8d6f-3a27-456e-9651-f6628ea56458@pictures.london
DTSTART:20260424T200000Z
DTEND:20260424T201000Z
SUMMARY:Primavera (1998) at Curzon Soho
DESCRIPTION:Primavera (1998)\nat Curzon Soho\nBook: https://www.curzon.com/films/primavera/HO00006900/\nvia Pictures (pictures.london)
LOCATION:Curzon Soho\, 99 Shaftesbury Avenue\, Soho\, W1D 5DY
URL:https://www.curzon.com/films/primavera/HO00006900/
STATUS:CONFIRMED
END:VEVENT
END:VCALENDAR