BEGIN:VCALENDAR
VERSION:2.0
PRODID:-//Pictures London//Cinema Listings//EN
CALSCALE:GREGORIAN
METHOD:PUBLISH
X-WR-CALNAME:Pictures London Cinema
BEGIN:VEVENT
UID:c5dad3ce-d52c-4f7a-ba3c-ba8838c743ba@pictures.london
DTSTART:20260425T190000Z
DTEND:20260425T203300Z
SUMMARY:Beau Travail (2000) at Close-Up Film Centre
DESCRIPTION:Beau Travail (2000)\nat Close-Up Film Centre\nBook: https://www.ticketsource.co.uk/close-up-cinema/e-zkoayq\nvia Pictures (pictures.london)
LOCATION:Close-Up Film Centre\, 97 Sclater Street\, Shoreditch\, E1 6HR
URL:https://www.ticketsource.co.uk/close-up-cinema/e-zkoayq
STATUS:CONFIRMED
END:VEVENT
END:VCALENDAR