BEGIN:VCALENDAR
VERSION:2.0
PRODID:-//Pictures London//Cinema Listings//EN
CALSCALE:GREGORIAN
METHOD:PUBLISH
X-WR-CALNAME:Pictures London Cinema
BEGIN:VEVENT
UID:c58d0787-62da-4c21-9e36-b1e741062074@pictures.london
DTSTART:20260426T120000Z
DTEND:20260426T134500Z
SUMMARY:Mademoiselle (1966) at Garden Cinema
DESCRIPTION:Mademoiselle (1966)\nat Garden Cinema\nBook: https://bookings.thegardencinema.co.uk/TheGardenCinema.dll/TSelectItems.waSelectItemsPrompt.TcsWebMenuItem_0.TcsWebTab_0.TcsPerformance_4966177.TcsSection_638\nvia Pictures (pictures.london)
LOCATION:Garden Cinema\, 39-41 Parker Street\, Covent Garden\, WC2B 5PQ
URL:https://bookings.thegardencinema.co.uk/TheGardenCinema.dll/TSelectItems.waSelectItemsPrompt.TcsWebMenuItem_0.TcsWebTab_0.TcsPerformance_4966177.TcsSection_638
STATUS:CONFIRMED
END:VEVENT
END:VCALENDAR