BEGIN:VCALENDAR
VERSION:2.0
PRODID:-//Pictures London//Cinema Listings//EN
CALSCALE:GREGORIAN
METHOD:PUBLISH
X-WR-CALNAME:Pictures London Cinema
BEGIN:VEVENT
UID:c577b3eb-6ade-4c59-96e1-5fa563993bae@pictures.london
DTSTART:20260422T141500Z
DTEND:20260422T162200Z
SUMMARY:Michael (2026) at Everyman Barnet
DESCRIPTION:Michael (2026)\nat Everyman Barnet\nBook: https://purchase.everymancinema.com/launch/ticketing/b8fb164f-318e-5fb0-9f2f-a1c0bc726fdb\nvia Pictures (pictures.london)
LOCATION:Everyman Barnet\, Great North Road\, Barnet\, EN5 5SJ
URL:https://purchase.everymancinema.com/launch/ticketing/b8fb164f-318e-5fb0-9f2f-a1c0bc726fdb
STATUS:CONFIRMED
END:VEVENT
END:VCALENDAR