BEGIN:VCALENDAR
VERSION:2.0
PRODID:-//Pictures London//Cinema Listings//EN
CALSCALE:GREGORIAN
METHOD:PUBLISH
X-WR-CALNAME:Pictures London Cinema
BEGIN:VEVENT
UID:c53e6fda-7cf4-49bc-8b79-86e32d790a5a@pictures.london
DTSTART:20260423T170000Z
DTEND:20260423T185000Z
SUMMARY:The Last Seduction (1994) at The Nickel
DESCRIPTION:The Last Seduction (1994)\nat The Nickel\nFormat: DIGITAL\nBook: https://book.thenickel.co.uk/screening/307\nvia Pictures (pictures.london)
LOCATION:The Nickel\, 194 Upper Street\, Islington\, N1 1RQ
URL:https://book.thenickel.co.uk/screening/307
STATUS:CONFIRMED
END:VEVENT
END:VCALENDAR