BEGIN:VCALENDAR
VERSION:2.0
PRODID:-//Pictures London//Cinema Listings//EN
CALSCALE:GREGORIAN
METHOD:PUBLISH
X-WR-CALNAME:Pictures London Cinema
BEGIN:VEVENT
UID:c52e60a1-0f91-468e-89e1-5ea3b090cada@pictures.london
DTSTART:20260421T172000Z
DTEND:20260421T185600Z
SUMMARY:Rebuilding (2025) at Curzon Soho
DESCRIPTION:Rebuilding (2025)\nat Curzon Soho\nBook: https://www.curzon.com/films/rebuilding/HO00006901/\nvia Pictures (pictures.london)
LOCATION:Curzon Soho\, 99 Shaftesbury Avenue\, Soho\, W1D 5DY
URL:https://www.curzon.com/films/rebuilding/HO00006901/
STATUS:CONFIRMED
END:VEVENT
END:VCALENDAR