BEGIN:VCALENDAR
VERSION:2.0
PRODID:-//Pictures London//Cinema Listings//EN
CALSCALE:GREGORIAN
METHOD:PUBLISH
X-WR-CALNAME:Pictures London Cinema
BEGIN:VEVENT
UID:c502e338-c667-4180-97a9-9c7016af1e91@pictures.london
DTSTART:20260422T170000Z
DTEND:20260422T190400Z
SUMMARY:Cabaret (1972) at Curzon Bloomsbury
DESCRIPTION:Cabaret (1972)\nat Curzon Bloomsbury\nBook: https://www.curzon.com/films/film-club-cabaret/HO00006919/\nvia Pictures (pictures.london)
LOCATION:Curzon Bloomsbury\, The Brunswick Centre\, Bloomsbury\, WC1H 8AG
URL:https://www.curzon.com/films/film-club-cabaret/HO00006919/
STATUS:CONFIRMED
END:VEVENT
END:VCALENDAR