BEGIN:VCALENDAR
VERSION:2.0
PRODID:-//Pictures London//Cinema Listings//EN
CALSCALE:GREGORIAN
METHOD:PUBLISH
X-WR-CALNAME:Pictures London Cinema
BEGIN:VEVENT
UID:c4de1f83-4c1a-493a-b45b-cc3b05f5cd39@pictures.london
DTSTART:20260501T142000Z
DTEND:20260501T161900Z
SUMMARY:The Devil Wears Prada 2 (2026) at Clapham Picturehouse
DESCRIPTION:The Devil Wears Prada 2 (2026)\nat Clapham Picturehouse\nBook: https://www.picturehouses.com/movie-details/020/HO00017738/the-devil-wears-prada-2\nvia Pictures (pictures.london)
LOCATION:Clapham Picturehouse\, 76 Venn Street\, Clapham\, SW4 7UL
URL:https://www.picturehouses.com/movie-details/020/HO00017738/the-devil-wears-prada-2
STATUS:CONFIRMED
END:VEVENT
END:VCALENDAR