BEGIN:VCALENDAR
VERSION:2.0
PRODID:-//Pictures London//Cinema Listings//EN
CALSCALE:GREGORIAN
METHOD:PUBLISH
X-WR-CALNAME:Pictures London Cinema
BEGIN:VEVENT
UID:c47c9852-a6d6-41ba-9689-d04d43613be5@pictures.london
DTSTART:20260421T205500Z
DTEND:20260421T224000Z
SUMMARY:The Drama (2026) at Genesis Cinema
DESCRIPTION:The Drama (2026)\nat Genesis Cinema\nBook: https://genesis.admit-one.co.uk/seats/?perfCode=10575\nvia Pictures (pictures.london)
LOCATION:Genesis Cinema\, 93-95 Mile End Road\, Mile End\, E1 4UJ
URL:https://genesis.admit-one.co.uk/seats/?perfCode=10575
STATUS:CONFIRMED
END:VEVENT
END:VCALENDAR