BEGIN:VCALENDAR
VERSION:2.0
PRODID:-//Pictures London//Cinema Listings//EN
CALSCALE:GREGORIAN
METHOD:PUBLISH
X-WR-CALNAME:Pictures London Cinema
BEGIN:VEVENT
UID:c45791a0-ac25-4b97-bf5c-35963db11c4e@pictures.london
DTSTART:20260423T204500Z
DTEND:20260423T224500Z
SUMMARY:Thelma and Louise Presented by Bloody Mary Film Club (1991) at Genesis Cinema
DESCRIPTION:Thelma and Louise Presented by Bloody Mary Film Club (1991)\nat Genesis Cinema\nBook: https://genesis.admit-one.co.uk/seats/?perfCode=10373\nvia Pictures (pictures.london)
LOCATION:Genesis Cinema\, 93-95 Mile End Road\, Mile End\, E1 4UJ
URL:https://genesis.admit-one.co.uk/seats/?perfCode=10373
STATUS:CONFIRMED
END:VEVENT
END:VCALENDAR