BEGIN:VCALENDAR
VERSION:2.0
PRODID:-//Pictures London//Cinema Listings//EN
CALSCALE:GREGORIAN
METHOD:PUBLISH
X-WR-CALNAME:Pictures London Cinema
BEGIN:VEVENT
UID:c40a36b0-1789-4ad9-8535-0311c700abc8@pictures.london
DTSTART:20260421T160000Z
DTEND:20260421T180600Z
SUMMARY:Colours of Time (2025) at Phoenix Cinema
DESCRIPTION:Colours of Time (2025)\nat Phoenix Cinema\nBook: https://www.phoenixcinema.co.uk/PhoenixCinemaLondon.dll/WhatsOn?f=464751\nvia Pictures (pictures.london)
LOCATION:Phoenix Cinema\, 52 High Road\, East Finchley\, N2 9PJ
URL:https://www.phoenixcinema.co.uk/PhoenixCinemaLondon.dll/WhatsOn?f=464751
STATUS:CONFIRMED
END:VEVENT
END:VCALENDAR