BEGIN:VCALENDAR
VERSION:2.0
PRODID:-//Pictures London//Cinema Listings//EN
CALSCALE:GREGORIAN
METHOD:PUBLISH
X-WR-CALNAME:Pictures London Cinema
BEGIN:VEVENT
UID:c3d3706c-201b-420f-a1b2-70454776af0b@pictures.london
DTSTART:20260501T143000Z
DTEND:20260501T162900Z
SUMMARY:The Devil Wears Prada 2 (2026) at Everyman Canary Wharf
DESCRIPTION:The Devil Wears Prada 2 (2026)\nat Everyman Canary Wharf\nBook: https://purchase.everymancinema.com/launch/ticketing/5e58034c-33cf-5a17-a885-414c4eb8c791\nvia Pictures (pictures.london)
LOCATION:Everyman Canary Wharf\, Crossrail Place\, Canary Wharf\, E14 5NY
URL:https://purchase.everymancinema.com/launch/ticketing/5e58034c-33cf-5a17-a885-414c4eb8c791
STATUS:CONFIRMED
END:VEVENT
END:VCALENDAR