BEGIN:VCALENDAR
VERSION:2.0
PRODID:-//Pictures London//Cinema Listings//EN
CALSCALE:GREGORIAN
METHOD:PUBLISH
X-WR-CALNAME:Pictures London Cinema
BEGIN:VEVENT
UID:c3bffeb1-960d-4abc-9652-66a6bfa21ef3@pictures.london
DTSTART:20260421T163000Z
DTEND:20260421T182000Z
SUMMARY:The Magic Faraway Tree (2026) at Clapham Picturehouse
DESCRIPTION:The Magic Faraway Tree (2026)\nat Clapham Picturehouse\nBook: https://www.picturehouses.com/movie-details/020/HO00017688/the-magic-faraway-tree\nvia Pictures (pictures.london)
LOCATION:Clapham Picturehouse\, 76 Venn Street\, Clapham\, SW4 7UL
URL:https://www.picturehouses.com/movie-details/020/HO00017688/the-magic-faraway-tree
STATUS:CONFIRMED
END:VEVENT
END:VCALENDAR