BEGIN:VCALENDAR
VERSION:2.0
PRODID:-//Pictures London//Cinema Listings//EN
CALSCALE:GREGORIAN
METHOD:PUBLISH
X-WR-CALNAME:Pictures London Cinema
BEGIN:VEVENT
UID:c35eab47-59fa-493a-8a78-cc873c8d9cc0@pictures.london
DTSTART:20260423T171500Z
DTEND:20260423T190200Z
SUMMARY:The Bride Wore Black (1968) at Garden Cinema
DESCRIPTION:The Bride Wore Black (1968)\nat Garden Cinema\nBook: https://bookings.thegardencinema.co.uk/TheGardenCinema.dll/TSelectItems.waSelectItemsPrompt.TcsWebMenuItem_0.TcsWebTab_0.TcsPerformance_4966102.TcsSection_971\nvia Pictures (pictures.london)
LOCATION:Garden Cinema\, 39-41 Parker Street\, Covent Garden\, WC2B 5PQ
URL:https://bookings.thegardencinema.co.uk/TheGardenCinema.dll/TSelectItems.waSelectItemsPrompt.TcsWebMenuItem_0.TcsWebTab_0.TcsPerformance_4966102.TcsSection_971
STATUS:CONFIRMED
END:VEVENT
END:VCALENDAR