BEGIN:VCALENDAR
VERSION:2.0
PRODID:-//Pictures London//Cinema Listings//EN
CALSCALE:GREGORIAN
METHOD:PUBLISH
X-WR-CALNAME:Pictures London Cinema
BEGIN:VEVENT
UID:c2fe4ba2-e64f-4e75-a918-13dd4b10b481@pictures.london
DTSTART:20260421T194500Z
DTEND:20260421T212100Z
SUMMARY:Madame Wang's (1996) at The Nickel
DESCRIPTION:Madame Wang's (1996)\nat The Nickel\nFormat: VHS\nBook: https://book.thenickel.co.uk/screening/306\nvia Pictures (pictures.london)
LOCATION:The Nickel\, 194 Upper Street\, Islington\, N1 1RQ
URL:https://book.thenickel.co.uk/screening/306
STATUS:CONFIRMED
END:VEVENT
END:VCALENDAR