BEGIN:VCALENDAR
VERSION:2.0
PRODID:-//Pictures London//Cinema Listings//EN
CALSCALE:GREGORIAN
METHOD:PUBLISH
X-WR-CALNAME:Pictures London Cinema
BEGIN:VEVENT
UID:c2f55fbd-5d2b-47f0-8437-7c4c5da91735@pictures.london
DTSTART:20260421T193000Z
DTEND:20260421T211500Z
SUMMARY:The Drama (2026) at Curzon Bloomsbury
DESCRIPTION:The Drama (2026)\nat Curzon Bloomsbury\nBook: https://www.curzon.com/films/the-drama/HO00006892/\nvia Pictures (pictures.london)
LOCATION:Curzon Bloomsbury\, The Brunswick Centre\, Bloomsbury\, WC1H 8AG
URL:https://www.curzon.com/films/the-drama/HO00006892/
STATUS:CONFIRMED
END:VEVENT
END:VCALENDAR