BEGIN:VCALENDAR
VERSION:2.0
PRODID:-//Pictures London//Cinema Listings//EN
CALSCALE:GREGORIAN
METHOD:PUBLISH
X-WR-CALNAME:Pictures London Cinema
BEGIN:VEVENT
UID:c22ee9fb-3b92-4778-9d03-d058b1993229@pictures.london
DTSTART:20260422T173000Z
DTEND:20260422T193700Z
SUMMARY:Michael (2026) at Screen on the Green
DESCRIPTION:Michael (2026)\nat Screen on the Green\nBook: https://purchase.everymancinema.com/launch/ticketing/283136ad-e4b0-590e-9042-697d9e30aa0b\nvia Pictures (pictures.london)
LOCATION:Screen on the Green\, 83 Upper Street\, Islington\, N1 0PH
URL:https://purchase.everymancinema.com/launch/ticketing/283136ad-e4b0-590e-9042-697d9e30aa0b
STATUS:CONFIRMED
END:VEVENT
END:VCALENDAR