BEGIN:VCALENDAR
VERSION:2.0
PRODID:-//Pictures London//Cinema Listings//EN
CALSCALE:GREGORIAN
METHOD:PUBLISH
X-WR-CALNAME:Pictures London Cinema
BEGIN:VEVENT
UID:c208471a-4594-414a-9a45-5c72e921361c@pictures.london
DTSTART:20260426T170000Z
DTEND:20260426T190000Z
SUMMARY:Rose Of Nevada + director Q&A at Castle Cinema
DESCRIPTION:Rose Of Nevada + director Q&A\nat Castle Cinema\nBook: https://thecastlecinema.com/bookings/16069/\nvia Pictures (pictures.london)
LOCATION:Castle Cinema\, 64-66 Brooksby's Walk\, Hackney\, E9 6DA
URL:https://thecastlecinema.com/bookings/16069/
STATUS:CONFIRMED
END:VEVENT
END:VCALENDAR