BEGIN:VCALENDAR
VERSION:2.0
PRODID:-//Pictures London//Cinema Listings//EN
CALSCALE:GREGORIAN
METHOD:PUBLISH
X-WR-CALNAME:Pictures London Cinema
BEGIN:VEVENT
UID:c1bbd285-e85f-45dc-b6bf-26071bb926d5@pictures.london
DTSTART:20260501T133000Z
DTEND:20260501T152900Z
SUMMARY:The Devil Wears Prada 2 (2026) at Olympic Studios
DESCRIPTION:The Devil Wears Prada 2 (2026)\nat Olympic Studios\nBook: https://web1.empire.mycloudcinema.com/#/book/53568\nvia Pictures (pictures.london)
LOCATION:Olympic Studios\, 117-123 Church Road\, Barnes\, SW13 9HL
URL:https://web1.empire.mycloudcinema.com/#/book/53568
STATUS:CONFIRMED
END:VEVENT
END:VCALENDAR