BEGIN:VCALENDAR
VERSION:2.0
PRODID:-//Pictures London//Cinema Listings//EN
CALSCALE:GREGORIAN
METHOD:PUBLISH
X-WR-CALNAME:Pictures London Cinema
BEGIN:VEVENT
UID:c1bb9e8d-c25a-4df6-b602-9c0761863040@pictures.london
DTSTART:20260501T144000Z
DTEND:20260501T163900Z
SUMMARY:The Devil Wears Prada 2 (2026) at Finsbury Park Picturehouse
DESCRIPTION:The Devil Wears Prada 2 (2026)\nat Finsbury Park Picturehouse\nBook: https://www.picturehouses.com/movie-details/029/HO00017738/the-devil-wears-prada-2\nvia Pictures (pictures.london)
LOCATION:Finsbury Park Picturehouse\, Unit B\, Finsbury Park Station\, Finsbury Park\, N4 3FP
URL:https://www.picturehouses.com/movie-details/029/HO00017738/the-devil-wears-prada-2
STATUS:CONFIRMED
END:VEVENT
END:VCALENDAR