BEGIN:VCALENDAR
VERSION:2.0
PRODID:-//Pictures London//Cinema Listings//EN
CALSCALE:GREGORIAN
METHOD:PUBLISH
X-WR-CALNAME:Pictures London Cinema
BEGIN:VEVENT
UID:c126a3a9-fad2-4e7f-ba03-f55c713ec8cc@pictures.london
DTSTART:20260422T134500Z
DTEND:20260422T155200Z
SUMMARY:Michael (2026) at Finsbury Park Picturehouse
DESCRIPTION:Michael (2026)\nat Finsbury Park Picturehouse\nBook: https://www.picturehouses.com/movie-details/029/HO00017772/michael\nvia Pictures (pictures.london)
LOCATION:Finsbury Park Picturehouse\, Unit B\, Finsbury Park Station\, Finsbury Park\, N4 3FP
URL:https://www.picturehouses.com/movie-details/029/HO00017772/michael
STATUS:CONFIRMED
END:VEVENT
END:VCALENDAR