BEGIN:VCALENDAR
VERSION:2.0
PRODID:-//Pictures London//Cinema Listings//EN
CALSCALE:GREGORIAN
METHOD:PUBLISH
X-WR-CALNAME:Pictures London Cinema
BEGIN:VEVENT
UID:c118cc4e-ff62-4c33-bbde-0003208e6b06@pictures.london
DTSTART:20260421T134500Z
DTEND:20260421T162200Z
SUMMARY:Project Hail Mary (2026) at Riverside Studios
DESCRIPTION:Project Hail Mary (2026)\nat Riverside Studios\nBook: https://riversidestudios.co.uk/seats/169801/\nvia Pictures (pictures.london)
LOCATION:Riverside Studios\, 101 Queen Caroline Street\, Hammersmith\, W6 9BN
URL:https://riversidestudios.co.uk/seats/169801/
STATUS:CONFIRMED
END:VEVENT
END:VCALENDAR