BEGIN:VCALENDAR
VERSION:2.0
PRODID:-//Pictures London//Cinema Listings//EN
CALSCALE:GREGORIAN
METHOD:PUBLISH
X-WR-CALNAME:Pictures London Cinema
BEGIN:VEVENT
UID:c0751ea9-ea72-4038-a244-c5b80b70465a@pictures.london
DTSTART:20260422T130000Z
DTEND:20260422T152000Z
SUMMARY:All My Sons (2019) at East Dulwich Picturehouse
DESCRIPTION:All My Sons (2019)\nat East Dulwich Picturehouse\nBook: https://www.picturehouses.com/movie-details/009/HO00017466/national-theatre-live-all-my-sons-2026\nvia Pictures (pictures.london)
LOCATION:East Dulwich Picturehouse\, Lordship Lane\, East Dulwich\, SE22 8EW
URL:https://www.picturehouses.com/movie-details/009/HO00017466/national-theatre-live-all-my-sons-2026
STATUS:CONFIRMED
END:VEVENT
END:VCALENDAR