BEGIN:VCALENDAR
VERSION:2.0
PRODID:-//Pictures London//Cinema Listings//EN
CALSCALE:GREGORIAN
METHOD:PUBLISH
X-WR-CALNAME:Pictures London Cinema
BEGIN:VEVENT
UID:c06d1831-3699-4224-9bad-c99c4b55b880@pictures.london
DTSTART:20260422T175000Z
DTEND:20260422T192900Z
SUMMARY:The Featherweight (2023) at BFI Southbank
DESCRIPTION:The Featherweight (2023)\nat BFI Southbank\nFormat: DIGITAL\nBook: https://whatson.bfi.org.uk/Online/default.asp?doWork::WScontent::search=1&BOparam::WScontent::search::article_search_id=25E7EA2E-291F-44F9-8EBC-E560154FDAEB&BOset::WScontent::SearchCriteria::search_criteria=The%20Featherweight\nvia Pictures (pictures.london)
LOCATION:BFI Southbank\, Belvedere Road\, South Bank\, SE1 8XT
URL:https://whatson.bfi.org.uk/Online/default.asp?doWork::WScontent::search=1&BOparam::WScontent::search::article_search_id=25E7EA2E-291F-44F9-8EBC-E560154FDAEB&BOset::WScontent::SearchCriteria::search_criteria=The%20Featherweight
STATUS:CONFIRMED
END:VEVENT
END:VCALENDAR