BEGIN:VCALENDAR
VERSION:2.0
PRODID:-//Pictures London//Cinema Listings//EN
CALSCALE:GREGORIAN
METHOD:PUBLISH
X-WR-CALNAME:Pictures London Cinema
BEGIN:VEVENT
UID:bff11e52-d204-473e-b60f-30db9e96c148@pictures.london
DTSTART:20260501T170000Z
DTEND:20260501T185900Z
SUMMARY:The Devil Wears Prada 2 (2026) at Picturehouse Central
DESCRIPTION:The Devil Wears Prada 2 (2026)\nat Picturehouse Central\nBook: https://www.picturehouses.com/movie-details/022/HO00017738/the-devil-wears-prada-2\nvia Pictures (pictures.london)
LOCATION:Picturehouse Central\, Corner of Great Windmill Street & Shaftesbury Avenue\, West End\, W1D 7DH
URL:https://www.picturehouses.com/movie-details/022/HO00017738/the-devil-wears-prada-2
STATUS:CONFIRMED
END:VEVENT
END:VCALENDAR