BEGIN:VCALENDAR
VERSION:2.0
PRODID:-//Pictures London//Cinema Listings//EN
CALSCALE:GREGORIAN
METHOD:PUBLISH
X-WR-CALNAME:Pictures London Cinema
BEGIN:VEVENT
UID:bfb0941a-5f82-4b7f-923e-3cbcb40ca18a@pictures.london
DTSTART:20260425T163000Z
DTEND:20260425T164100Z
SUMMARY:Second Class Passenger (1973) at Close-Up Film Centre
DESCRIPTION:Second Class Passenger (1973)\nat Close-Up Film Centre\nBook: https://www.ticketsource.co.uk/close-up-cinema/e-gryeal\nvia Pictures (pictures.london)
LOCATION:Close-Up Film Centre\, 97 Sclater Street\, Shoreditch\, E1 6HR
URL:https://www.ticketsource.co.uk/close-up-cinema/e-gryeal
STATUS:CONFIRMED
END:VEVENT
END:VCALENDAR