BEGIN:VCALENDAR
VERSION:2.0
PRODID:-//Pictures London//Cinema Listings//EN
CALSCALE:GREGORIAN
METHOD:PUBLISH
X-WR-CALNAME:Pictures London Cinema
BEGIN:VEVENT
UID:bfa39591-ddd9-4479-a61f-fc16b01aad1d@pictures.london
DTSTART:20260425T143000Z
DTEND:20260425T160700Z
SUMMARY:After Hours (1985) at Hackney Picturehouse
DESCRIPTION:After Hours (1985)\nat Hackney Picturehouse\nFormat: DCP_4K\nBook: https://www.picturehouses.com/movie-details/010/HO00014433/after-hours-4k-restoration\nvia Pictures (pictures.london)
LOCATION:Hackney Picturehouse\, 270 Mare Street\, Hackney\, E8 1EJ
URL:https://www.picturehouses.com/movie-details/010/HO00014433/after-hours-4k-restoration
STATUS:CONFIRMED
END:VEVENT
END:VCALENDAR